Workbook

Sheet Welkom
D1: MijnSaldosupporter Light© v.2026-1a E-learnings
D2: Welkom bij MijnSaldosupporter Light©
D3: Beste deelnemer van de e-learning,
D4: Leuk dat je met het maken van een budgetplan aan de slag wilt. Zo krijg je nog meer grip op je financiële situatie. Hiervoor kun je MijnSaldosupporter Light© gaan invullen.
D5: MijnSaldosupporter Light© geeft je een goed beeld van je maandelijkse inkomsten en uitgaven en rekent uit wat je per maand tekort komt of overhoudt. Zo kan je zelf jouw budget gaan plannen én zien of je hier goed mee uitkomt.
D6: Klik hieronder op Stap 1 voor het invullen van je budgetplan voor komend jaar. Vervolgens kan je via Stap 2 per half jaar maandelijks je werkelijke inkomsten en uitgaven gaan bijhouden.
D8: 1 | E8: Budgetplan inkomsten en uitgaven komend jaar
D11: 2 | E11: Werkelijke inkomsten en uitgaven | K11: Werkelijke inkomsten en uitgaven
E12: ='1-6 maanden'!K18 -> #VALUE! | G12: t/m | I12: ='1-6 maanden'!V18 -> #VALUE! | K12: ='7-12 maanden'!K18 -> #VALUE! | M12: t/m | O12: ='7-12 maanden'!V18 -> #VALUE!
D14: Veel succes bij het maken van jouw persoonlijke budgetplan!
D15: Met vriendelijke groet,
D16: De coaches van Sammen B.V. .
D17: MijnSaldosupporter Light© is een uitgave van Saldosupport Financiële coaching. Het auteursrecht voor de inhoud van deze uitgave wordt voorbehouden. MijnSaldosupporter Light© mag alleen voor persoonlijke doeleinden gebruikt worden en niet worden verspreid onder andere mensen. Het gebruik voor commerciële doeleinden is niet toegestaan. Het is de gebruiker van de website niet toegestaan de inhoud van de website geheel of gedeeltelijk te reproduceren, over te dragen, te verspreiden, te bewaren of tegen vergoeding beschikbaar te stellen aan derden, zonder de voorafgaande schriftelijke toestemming Saldosupport Financiële coaching. Gebruikerslicentie verkregen door: Sammen B.V. De in MijnSaldosupporter Light© verstrekte informatie is met grote zorg samengesteld, doch voor de juistheid en volledigheid ervan kan niet worden ingestaan. Aan de verstrekte informatie kunnen geen rechten worden ontleend. Sammen, noch Saldosupport, is aansprakelijk voor schade , die niet door haar opzet of grove schuld is ontstaan, die direct of indirect voortvloeit uit: - het niet beschikbaar zijn van MijnSaldosupporter Light© - verminking, vertraging, afdwaling alsmede onbevoegde kennisneming, wijzigingen en/of verzending van MijnSaldosupporter Light© Degene die MijnSaldosupporter Light© gebruikt dient afdoende beschermingsmaatregelen te treffen, zoals periodieke wachtwoorden, virusscanner, firewall en dergelijke ter bescherming van de data in MijnSaldosupporter Light©.

Sheet Inkomsten en uitgaven
C1: Uzelf
C2: Uzelf | D2: Terug naar Inhoudsopgave | F2: Naar boven | G2: =D17 -> A. Inkomsten | L2: =D38 -> B. Vaste lasten | N2: =D124 -> C. Reserveren/ sparen voor | P2: =D139 -> D. Huishoudelijke uitgaven | R2: =D154 -> Totaal inkomsten en uitgaven | T2: =D166 -> Budgetoverzicht | V2: TIP: wil je in dit overzicht snel naar een andere rubriek? Gebruik dan de lichtgrijze knoppen bovenaan het scherm door daarop te klikken
C3: Uzelf | L3: B1. Wonen
C4: Uzelf | L4: B2. Verzekeringen
C5: Uzelf | L5: B3. Abon./contrib.
C6: U heeft kinderen | L6: B4. Kinderen
C7: Uzelf | L7: B5. Vervoer
C8: Uzelf | L8: B6. Afbetalingen
C9: Uzelf | D9: =Welkom!D1 -> MijnSaldosupporter Light© v.2026-1a E-learnings
C10: Uzelf | D10: Inkomsten en uitgaven afgelopen jaar
C11: Uzelf | D11: Datum: | M11: Toelichting:
C12: Uzelf | D12: =#REF! -> #REF! | M12: =#REF! -> #REF!
C13: Uzelf
C14: Uzelf
C15: Uzelf
C16: Uzelf
C17: Uzelf | D17: A. Inkomsten
C18: Uzelf | H18: Gemiddeld | K18: =DATE(YEAR(D12),MONTH(D12)-12,MIN(DAY(D12),DAY(DATE(YEAR(D12),MONTH(D12)-12+1,0)))) -> #REF! | M18: =DATE(YEAR(K18),MONTH(K18)+1,MIN(DAY(K18),DAY(DATE(YEAR(K18),MONTH(K18)+1+1,0)))) -> #REF! | N18: =DATE(YEAR(M18),MONTH(M18)+1,MIN(DAY(M18),DAY(DATE(YEAR(M18),MONTH(M18)+1+1,0)))) -> #REF! | O18: =DATE(YEAR(N18),MONTH(N18)+1,MIN(DAY(N18),DAY(DATE(YEAR(N18),MONTH(N18)+1+1,0)))) -> #REF! | P18: =DATE(YEAR(O18),MONTH(O18)+1,MIN(DAY(O18),DAY(DATE(YEAR(O18),MONTH(O18)+1+1,0)))) -> #REF! | Q18: =DATE(YEAR(P18),MONTH(P18)+1,MIN(DAY(P18),DAY(DATE(YEAR(P18),MONTH(P18)+1+1,0)))) -> #REF! | R18: =DATE(YEAR(Q18),MONTH(Q18)+1,MIN(DAY(Q18),DAY(DATE(YEAR(Q18),MONTH(Q18)+1+1,0)))) -> #REF! | S18: =DATE(YEAR(R18),MONTH(R18)+1,MIN(DAY(R18),DAY(DATE(YEAR(R18),MONTH(R18)+1+1,0)))) -> #REF! | T18: =DATE(YEAR(S18),MONTH(S18)+1,MIN(DAY(S18),DAY(DATE(YEAR(S18),MONTH(S18)+1+1,0)))) -> #REF! | U18: =DATE(YEAR(T18),MONTH(T18)+1,MIN(DAY(T18),DAY(DATE(YEAR(T18),MONTH(T18)+1+1,0)))) -> #REF! | ... W18: =DATE(YEAR(V18),MONTH(V18)+1,MIN(DAY(V18),DAY(DATE(YEAR(V18),MONTH(V18)+1+1,0)))) -> #REF!
C19: Uzelf | D19: ="Netto inkomen "&#REF!&"" -> #REF! | H19: € | I19: =SUM(L19:X19)/12 -> #REF! | K19: € | L19: 0 | U19: =#REF! -> #REF! | V19: =#REF! -> #REF! | W19: =#REF! -> #REF!
C20: U heeft een partner | D20: ="Netto inkomen "&#REF!&"" -> #REF! | H20: € | I20: =SUM(L20:X20)/12 -> #REF! | K20: € | U20: =#REF! -> #REF! | V20: =#REF! -> #REF! | W20: =#REF! -> #REF!
C21: Uzelf | D21: Voorlopige teruggave | H21: € | I21: =SUM(L21:X21)/12 -> 0 | K21: €
C22: Uzelf | D22: Huurtoeslag | H22: € | I22: =SUM(L22:X22)/12 -> 0 | K22: €
C23: Uzelf | D23: Zorgtoeslag | H23: € | I23: =SUM(L23:X23)/12 -> 0 | K23: €
C24: U heeft kinderen | D24: Kindgebonden budget | H24: € | I24: =SUM(L24:X24)/12 -> 0 | K24: €
C25: U heeft kinderen | D25: Kinderopvangtoeslag | H25: € | I25: =SUM(L25:X25)/12 -> 0 | K25: €
C26: Uzelf | D26: Overige toeslagen | H26: € | I26: =SUM(L26:X26)/12 -> 0 | K26: €
C27: Uzelf | D27: Tegemoetkoming studiekosten/studiefinanciering | H27: € | I27: =SUM(L27:X27)/12 -> 0 | K27: €
C28: Uzelf | D28: Ontvangen partneralimentatie | H28: € | I28: =SUM(L28:X28)/12 -> 0 | K28: €
C29: U heeft kinderen | D29: Ontvangen kinderalimentatie | H29: € | I29: =SUM(L29:X29)/12 -> 0 | K29: €
C30: Uzelf | D30: Kostgeld inwonende persoon | H30: € | I30: =SUM(L30:X30)/12 -> 0 | K30: €
C31: Uzelf | D31: Reiskostenvergoeding | H31: € | I31: =SUM(L31:X31)/12 -> 0 | K31: €
C32: U heeft kinderen | D32: Kinderbijslag | H32: € | I32: =SUM(L32:X32)/12 -> 0 | K32: €
... C34: Uzelf | D34: ………………………. | H34: € | I34: =SUM(L34:X34)/12 -> 0 | K34: €
C35: Uzelf | D35: Totaal inkomsten per maand: | H35: € | I35: =SUBTOTAL(109,I19:I34) -> #REF! | K35: € | L35: =SUBTOTAL(109,L19:L34) -> 0 | M35: =SUBTOTAL(109,M19:M34) -> 0 | N35: =SUBTOTAL(109,N19:N34) -> 0 | O35: =SUBTOTAL(109,O19:O34) -> 0 | P35: =SUBTOTAL(109,P19:P34) -> 0 | Q35: =SUBTOTAL(109,Q19:Q34) -> 0 | R35: =SUBTOTAL(109,R19:R34) -> 0 | S35: =SUBTOTAL(109,S19:S34) -> 0 | ... W35: =SUBTOTAL(109,W19:W34) -> #REF!
C36: Uzelf
C37: Uzelf | D37: Inkomsten en uitgaven afgelopen jaar blz.2
C38: Uzelf | D38: B. Vaste lasten
C39: Uzelf | D39: B1. Wonen (huur, hypotheek en heffingen): | H39: Gemiddeld | K39: =K18 -> #REF! | M39: =M18 -> #REF! | N39: =N18 -> #REF! | O39: =O18 -> #REF! | P39: =P18 -> #REF! | Q39: =Q18 -> #REF! | R39: =R18 -> #REF! | S39: =S18 -> #REF! | T39: =T18 -> #REF! | ... W39: =W18 -> #REF!
C40: Uzelf | E40: Huur of hypotheek (rente en aflossingen) | H40: € | I40: =SUM(L40:X40)/12 -> 0 | K40: € | L40: 0
C41: Uzelf | E41: Verzekering bij hypotheek | H41: € | I41: =SUM(L41:X41)/12 -> 0 | K41: €
...

Sheet Komend jaar
C1: Uzelf
C2: Uzelf | F2: Naar boven | G2: =D17 -> A. Inkomsten | L2: =D38 -> B. Vaste lasten | N2: =D124 -> C. Reserverings- uitgaven/ sparen | P2: =D139 -> D. Huishoudelijke uitgaven | R2: =D154 -> Totaal inkomsten en uitgaven | T2: =D166 -> Budgetoverzicht
C3: Uzelf | L3: B1. Wonen
C4: Uzelf | L4: B2. Verzekeringen
C5: Uzelf | L5: B3. Abon./contrib.
C6: U heeft kinderen | L6: B4. Kinderen
C7: Uzelf | L7: B5. Vervoer
C8: Uzelf | L8: B6. Afbetalingen
C9: Uzelf | D9: =Welkom!D1 -> MijnSaldosupporter Light© v.2026-1a E-learnings
C10: Uzelf | D10: Budgetplan inkomsten en uitgaven komend jaar
C11: Uzelf | D11: Datum: | M11: Toelichting:
C12: Uzelf | D12: ="BEGIN HIER - en type in deze cel de datum waarop je start met het invullen van dit budgetplan, bijvoorbeeld de datum van vandaag: " & TEXT(NOW(), "dd-mm-jjjj") -> BEGIN HIER - en type in deze cel de datum waarop je start met het invullen van dit budgetplan, bijvoorbeeld de datum van vandaag: 06-01-2026 | M12: Stap 1. In dit overzicht kan je invullen wat je voor het komend jaar aan inkomsten en uitgaven verwacht. Misschien kan je al besparingen doorvoeren of in maanden dat je geld 'overhoudt' wat geld reserveren voor uitgaven in andere maanden?
C13: Uzelf
C14: Uzelf
C15: Uzelf
C16: Uzelf
C17: Uzelf | D17: A. Inkomsten
C18: Uzelf | H18: Gemiddeld | K18: =DATE(YEAR(D12),MONTH(D12)+1,MIN(DAY(D12),DAY(DATE(YEAR(D12),MONTH(D12)+1+1,0)))) -> #VALUE! | M18: =DATE(YEAR(K18),MONTH(K18)+1,MIN(DAY(K18),DAY(DATE(YEAR(K18),MONTH(K18)+1+1,0)))) -> #VALUE! | N18: =DATE(YEAR(M18),MONTH(M18)+1,MIN(DAY(M18),DAY(DATE(YEAR(M18),MONTH(M18)+1+1,0)))) -> #VALUE! | O18: =DATE(YEAR(N18),MONTH(N18)+1,MIN(DAY(N18),DAY(DATE(YEAR(N18),MONTH(N18)+1+1,0)))) -> #VALUE! | P18: =DATE(YEAR(O18),MONTH(O18)+1,MIN(DAY(O18),DAY(DATE(YEAR(O18),MONTH(O18)+1+1,0)))) -> #VALUE! | Q18: =DATE(YEAR(P18),MONTH(P18)+1,MIN(DAY(P18),DAY(DATE(YEAR(P18),MONTH(P18)+1+1,0)))) -> #VALUE! | R18: =DATE(YEAR(Q18),MONTH(Q18)+1,MIN(DAY(Q18),DAY(DATE(YEAR(Q18),MONTH(Q18)+1+1,0)))) -> #VALUE! | S18: =DATE(YEAR(R18),MONTH(R18)+1,MIN(DAY(R18),DAY(DATE(YEAR(R18),MONTH(R18)+1+1,0)))) -> #VALUE! | T18: =DATE(YEAR(S18),MONTH(S18)+1,MIN(DAY(S18),DAY(DATE(YEAR(S18),MONTH(S18)+1+1,0)))) -> #VALUE! | U18: =DATE(YEAR(T18),MONTH(T18)+1,MIN(DAY(T18),DAY(DATE(YEAR(T18),MONTH(T18)+1+1,0)))) -> #VALUE! | ... W18: =DATE(YEAR(V18),MONTH(V18)+1,MIN(DAY(V18),DAY(DATE(YEAR(V18),MONTH(V18)+1+1,0)))) -> #VALUE!
C19: Uzelf | D19: Netto inkomen | H19: € | I19: =SUM(L19:X19)/12 -> 0 | K19: € | L19: 0
C20: U heeft een partner | D20: Netto inkomen partner | H20: € | I20: =SUM(L20:X20)/12 -> 0 | K20: €
C21: Uzelf | D21: =INDIRECT("'Inkomsten en uitgaven'!D:D",ROW()) -> Voorlopige teruggave | H21: € | I21: =SUM(L21:X21)/12 -> 0 | K21: €
C22: Uzelf | D22: =INDIRECT("'Inkomsten en uitgaven'!D:D",ROW()) -> Huurtoeslag | H22: € | I22: =SUM(L22:X22)/12 -> 0 | K22: €
C23: Uzelf | D23: =INDIRECT("'Inkomsten en uitgaven'!D:D",ROW()) -> Zorgtoeslag | H23: € | I23: =SUM(L23:X23)/12 -> 0 | K23: €
C24: U heeft kinderen | D24: =INDIRECT("'Inkomsten en uitgaven'!D:D",ROW()) -> Kindgebonden budget | H24: € | I24: =SUM(L24:X24)/12 -> 0 | K24: €
C25: U heeft kinderen | D25: =INDIRECT("'Inkomsten en uitgaven'!D:D",ROW()) -> Kinderopvangtoeslag | H25: € | I25: =SUM(L25:X25)/12 -> 0 | K25: €
C26: Uzelf | D26: =INDIRECT("'Inkomsten en uitgaven'!D:D",ROW()) -> Overige toeslagen | H26: € | I26: =SUM(L26:X26)/12 -> 0 | K26: €
C27: Uzelf | D27: =INDIRECT("'Inkomsten en uitgaven'!D:D",ROW()) -> Tegemoetkoming studiekosten/studiefinanciering | H27: € | I27: =SUM(L27:X27)/12 -> 0 | K27: €
C28: Uzelf | D28: =INDIRECT("'Inkomsten en uitgaven'!D:D",ROW()) -> Ontvangen partneralimentatie | H28: € | I28: =SUM(L28:X28)/12 -> 0 | K28: €
C29: U heeft kinderen | D29: =INDIRECT("'Inkomsten en uitgaven'!D:D",ROW()) -> Ontvangen kinderalimentatie | H29: € | I29: =SUM(L29:X29)/12 -> 0 | K29: €
C30: Uzelf | D30: =INDIRECT("'Inkomsten en uitgaven'!D:D",ROW()) -> Kostgeld inwonende persoon | H30: € | I30: =SUM(L30:X30)/12 -> 0 | K30: €
C31: Uzelf | D31: =INDIRECT("'Inkomsten en uitgaven'!D:D",ROW()) -> Reiskostenvergoeding | H31: € | I31: =SUM(L31:X31)/12 -> 0 | K31: €
C32: U heeft kinderen | D32: =INDIRECT("'Inkomsten en uitgaven'!D:D",ROW()) -> Kinderbijslag | H32: € | I32: =SUM(L32:X32)/12 -> 0 | K32: €
... C34: Uzelf | D34: =INDIRECT("'Inkomsten en uitgaven'!D:D",ROW()) -> ………………………. | H34: € | I34: =SUM(L34:X34)/12 -> 0 | K34: €
C35: Uzelf | D35: Totaal inkomsten per maand: | H35: € | I35: =SUBTOTAL(109,I19:I34) -> 0 | K35: € | L35: =SUBTOTAL(109,L19:L34) -> 0 | M35: =SUBTOTAL(109,M19:M34) -> 0 | N35: =SUBTOTAL(109,N19:N34) -> 0 | O35: =SUBTOTAL(109,O19:O34) -> 0 | P35: =SUBTOTAL(109,P19:P34) -> 0 | Q35: =SUBTOTAL(109,Q19:Q34) -> 0 | R35: =SUBTOTAL(109,R19:R34) -> 0 | S35: =SUBTOTAL(109,S19:S34) -> 0 | ... W35: =SUBTOTAL(109,W19:W34) -> 0
C36: Uzelf
C37: Uzelf | D37: Overzicht komend jaar blz.2
C38: Uzelf | D38: B. Vaste lasten
C39: Uzelf | D39: B1. Wonen (huur, hypotheek en heffingen): | H39: Gemiddeld | K39: =K18 -> #VALUE! | M39: =M18 -> #VALUE! | N39: =N18 -> #VALUE! | O39: =O18 -> #VALUE! | P39: =P18 -> #VALUE! | Q39: =Q18 -> #VALUE! | R39: =R18 -> #VALUE! | S39: =S18 -> #VALUE! | T39: =T18 -> #VALUE! | ... W39: =W18 -> #VALUE!
C40: Uzelf | E40: =INDIRECT("'Inkomsten en uitgaven'!E:E",ROW()) -> Huur of hypotheek (rente en aflossingen) | H40: € | I40: =SUM(L40:X40)/12 -> 0 | K40: € | L40: 0
C41: Uzelf | E41: =INDIRECT("'Inkomsten en uitgaven'!E:E",ROW()) -> Verzekering bij hypotheek | H41: € | I41: =SUM(L41:X41)/12 -> 0 | K41: €
...

Sheet 1-6 maanden
C1: Uzelf
C2: Uzelf | F2: Naar boven | G2: =D17 -> A. Inkomsten | L2: =D38 -> B. Vaste lasten | N2: =D124 -> C. Reserverings- uitgaven/ sparen | P2: =D139 -> D. Huishoudelijke uitgaven | R2: =D154 -> Totaal inkomsten en uitgaven | T2: =D166 -> Budgetoverzicht | V2: Grafiek
C3: Uzelf | L3: B1. Wonen
C4: Uzelf | L4: B2. Verzekeringen
C5: Uzelf | L5: B3. Abon./contrib.
C6: U heeft kinderen | L6: B4. Kinderen
C7: Uzelf | L7: B5. Vervoer
C8: Uzelf | L8: B6. Afbetalingen
C9: Uzelf | D9: =Welkom!D1 -> MijnSaldosupporter Light© v.2026-1a E-learnings
C10: Uzelf | D10: Werkelijk | F10: =M18 -> #VALUE! | G10: t/m | J10: =W18 -> #VALUE!
C11: Uzelf | D11: Toelichting:
C12: Uzelf | D12: Stap 2. Het budgetplan van stap 1 is een inschatting, maar hoe gaat het nu werkelijk met je inkomsten en uitgaven? Neem iedere maand, na afloop van de maand, al je bij- en afschrijvingen van je bankrekeningen door en vul voor de desbetreffende maand de werkelijke inkomsten en uitgaven in. Zo kun je controleren of je op koers ligt met je budgetplan of dat je moet bijsturen.
C13: Uzelf
C14: Uzelf
C15: Uzelf
C16: Uzelf
C17: Uzelf | D17: A. Inkomsten | K17: Begroot | M17: Werkelijk | N17: =K17 -> Begroot | O17: =M17 -> Werkelijk | P17: =K17 -> Begroot | Q17: =M17 -> Werkelijk | R17: =K17 -> Begroot | S17: =M17 -> Werkelijk | T17: =K17 -> Begroot | U17: =M17 -> Werkelijk | V17: =K17 -> Begroot | W17: =M17 -> Werkelijk
C18: Uzelf | H18: Gemiddeld | K18: =M18 -> #VALUE! | M18: ='Komend jaar'!K18 -> #VALUE! | N18: =O18 -> #VALUE! | O18: ='Komend jaar'!M18 -> #VALUE! | P18: =Q18 -> #VALUE! | Q18: ='Komend jaar'!N18 -> #VALUE! | R18: =S18 -> #VALUE! | S18: ='Komend jaar'!O18 -> #VALUE! | T18: =U18 -> #VALUE! | U18: ='Komend jaar'!P18 -> #VALUE! | V18: =W18 -> #VALUE! | W18: ='Komend jaar'!Q18 -> #VALUE! | X18: >
C19: Uzelf | D19: {='Komend jaar'!D19:F34} -> Netto inkomen | H19: € | I19: =IF('7-12 maanden'!$W$35=0,0,(M19+O19+Q19+S19+U19+W19+'7-12 maanden'!M19+'7-12 maanden'!O19+'7-12 maanden'!Q19+'7-12 maanden'!S19+'7-12 maanden'!U19+'7-12 maanden'!W19)/12) -> 0 | K19: € | L19: =INDIRECT("'Komend jaar'!L:L",ROW()) -> 0 | M19: 0 | N19: =INDIRECT("'Komend jaar'!M:M",ROW()) -> 0 | P19: =INDIRECT("'Komend jaar'!N:N",ROW()) -> 0 | R19: =INDIRECT("'Komend jaar'!O:O",ROW()) -> 0 | T19: =INDIRECT("'Komend jaar'!P:P",ROW()) -> 0 | V19: =INDIRECT("'Komend jaar'!Q:Q",ROW()) -> 0
C20: U heeft een partner | D20: Netto inkomen partner | H20: € | I20: =IF('7-12 maanden'!$W$35=0,0,(M20+O20+Q20+S20+U20+W20+'7-12 maanden'!M20+'7-12 maanden'!O20+'7-12 maanden'!Q20+'7-12 maanden'!S20+'7-12 maanden'!U20+'7-12 maanden'!W20)/12) -> 0 | K20: € | L20: =INDIRECT("'Komend jaar'!L:L",ROW()) -> 0 | N20: =INDIRECT("'Komend jaar'!M:M",ROW()) -> 0 | P20: =INDIRECT("'Komend jaar'!N:N",ROW()) -> 0 | R20: =INDIRECT("'Komend jaar'!O:O",ROW()) -> 0 | T20: =INDIRECT("'Komend jaar'!P:P",ROW()) -> 0 | V20: =INDIRECT("'Komend jaar'!Q:Q",ROW()) -> 0
C21: Uzelf | D21: Voorlopige teruggave | H21: € | I21: =IF('7-12 maanden'!$W$35=0,0,(M21+O21+Q21+S21+U21+W21+'7-12 maanden'!M21+'7-12 maanden'!O21+'7-12 maanden'!Q21+'7-12 maanden'!S21+'7-12 maanden'!U21+'7-12 maanden'!W21)/12) -> 0 | K21: € | L21: =INDIRECT("'Komend jaar'!L:L",ROW()) -> 0 | N21: =INDIRECT("'Komend jaar'!M:M",ROW()) -> 0 | P21: =INDIRECT("'Komend jaar'!N:N",ROW()) -> 0 | R21: =INDIRECT("'Komend jaar'!O:O",ROW()) -> 0 | T21: =INDIRECT("'Komend jaar'!P:P",ROW()) -> 0 | V21: =INDIRECT("'Komend jaar'!Q:Q",ROW()) -> 0
C22: Uzelf | D22: Huurtoeslag | H22: € | I22: =IF('7-12 maanden'!$W$35=0,0,(M22+O22+Q22+S22+U22+W22+'7-12 maanden'!M22+'7-12 maanden'!O22+'7-12 maanden'!Q22+'7-12 maanden'!S22+'7-12 maanden'!U22+'7-12 maanden'!W22)/12) -> 0 | K22: € | L22: =INDIRECT("'Komend jaar'!L:L",ROW()) -> 0 | N22: =INDIRECT("'Komend jaar'!M:M",ROW()) -> 0 | P22: =INDIRECT("'Komend jaar'!N:N",ROW()) -> 0 | R22: =INDIRECT("'Komend jaar'!O:O",ROW()) -> 0 | T22: =INDIRECT("'Komend jaar'!P:P",ROW()) -> 0 | V22: =INDIRECT("'Komend jaar'!Q:Q",ROW()) -> 0
C23: Uzelf | D23: Zorgtoeslag | H23: € | I23: =IF('7-12 maanden'!$W$35=0,0,(M23+O23+Q23+S23+U23+W23+'7-12 maanden'!M23+'7-12 maanden'!O23+'7-12 maanden'!Q23+'7-12 maanden'!S23+'7-12 maanden'!U23+'7-12 maanden'!W23)/12) -> 0 | K23: € | L23: =INDIRECT("'Komend jaar'!L:L",ROW()) -> 0 | N23: =INDIRECT("'Komend jaar'!M:M",ROW()) -> 0 | P23: =INDIRECT("'Komend jaar'!N:N",ROW()) -> 0 | R23: =INDIRECT("'Komend jaar'!O:O",ROW()) -> 0 | T23: =INDIRECT("'Komend jaar'!P:P",ROW()) -> 0 | V23: =INDIRECT("'Komend jaar'!Q:Q",ROW()) -> 0
C24: U heeft kinderen | D24: Kindgebonden budget | H24: € | I24: =IF('7-12 maanden'!$W$35=0,0,(M24+O24+Q24+S24+U24+W24+'7-12 maanden'!M24+'7-12 maanden'!O24+'7-12 maanden'!Q24+'7-12 maanden'!S24+'7-12 maanden'!U24+'7-12 maanden'!W24)/12) -> 0 | K24: € | L24: =INDIRECT("'Komend jaar'!L:L",ROW()) -> 0 | N24: =INDIRECT("'Komend jaar'!M:M",ROW()) -> 0 | P24: =INDIRECT("'Komend jaar'!N:N",ROW()) -> 0 | R24: =INDIRECT("'Komend jaar'!O:O",ROW()) -> 0 | T24: =INDIRECT("'Komend jaar'!P:P",ROW()) -> 0 | V24: =INDIRECT("'Komend jaar'!Q:Q",ROW()) -> 0
C25: U heeft kinderen | D25: Kinderopvangtoeslag | H25: € | I25: =IF('7-12 maanden'!$W$35=0,0,(M25+O25+Q25+S25+U25+W25+'7-12 maanden'!M25+'7-12 maanden'!O25+'7-12 maanden'!Q25+'7-12 maanden'!S25+'7-12 maanden'!U25+'7-12 maanden'!W25)/12) -> 0 | K25: € | L25: =INDIRECT("'Komend jaar'!L:L",ROW()) -> 0 | N25: =INDIRECT("'Komend jaar'!M:M",ROW()) -> 0 | P25: =INDIRECT("'Komend jaar'!N:N",ROW()) -> 0 | R25: =INDIRECT("'Komend jaar'!O:O",ROW()) -> 0 | T25: =INDIRECT("'Komend jaar'!P:P",ROW()) -> 0 | V25: =INDIRECT("'Komend jaar'!Q:Q",ROW()) -> 0
C26: Uzelf | D26: Overige toeslagen | H26: € | I26: =IF('7-12 maanden'!$W$35=0,0,(M26+O26+Q26+S26+U26+W26+'7-12 maanden'!M26+'7-12 maanden'!O26+'7-12 maanden'!Q26+'7-12 maanden'!S26+'7-12 maanden'!U26+'7-12 maanden'!W26)/12) -> 0 | K26: € | L26: =INDIRECT("'Komend jaar'!L:L",ROW()) -> 0 | N26: =INDIRECT("'Komend jaar'!M:M",ROW()) -> 0 | P26: =INDIRECT("'Komend jaar'!N:N",ROW()) -> 0 | R26: =INDIRECT("'Komend jaar'!O:O",ROW()) -> 0 | T26: =INDIRECT("'Komend jaar'!P:P",ROW()) -> 0 | V26: =INDIRECT("'Komend jaar'!Q:Q",ROW()) -> 0
C27: Uzelf | D27: Tegemoetkoming studiekosten/studiefinanciering | H27: € | I27: =IF('7-12 maanden'!$W$35=0,0,(M27+O27+Q27+S27+U27+W27+'7-12 maanden'!M27+'7-12 maanden'!O27+'7-12 maanden'!Q27+'7-12 maanden'!S27+'7-12 maanden'!U27+'7-12 maanden'!W27)/12) -> 0 | K27: € | L27: =INDIRECT("'Komend jaar'!L:L",ROW()) -> 0 | N27: =INDIRECT("'Komend jaar'!M:M",ROW()) -> 0 | P27: =INDIRECT("'Komend jaar'!N:N",ROW()) -> 0 | R27: =INDIRECT("'Komend jaar'!O:O",ROW()) -> 0 | T27: =INDIRECT("'Komend jaar'!P:P",ROW()) -> 0 | V27: =INDIRECT("'Komend jaar'!Q:Q",ROW()) -> 0
C28: Uzelf | D28: Ontvangen partneralimentatie | H28: € | I28: =IF('7-12 maanden'!$W$35=0,0,(M28+O28+Q28+S28+U28+W28+'7-12 maanden'!M28+'7-12 maanden'!O28+'7-12 maanden'!Q28+'7-12 maanden'!S28+'7-12 maanden'!U28+'7-12 maanden'!W28)/12) -> 0 | K28: € | L28: =INDIRECT("'Komend jaar'!L:L",ROW()) -> 0 | N28: =INDIRECT("'Komend jaar'!M:M",ROW()) -> 0 | P28: =INDIRECT("'Komend jaar'!N:N",ROW()) -> 0 | R28: =INDIRECT("'Komend jaar'!O:O",ROW()) -> 0 | T28: =INDIRECT("'Komend jaar'!P:P",ROW()) -> 0 | V28: =INDIRECT("'Komend jaar'!Q:Q",ROW()) -> 0
C29: U heeft kinderen | D29: Ontvangen kinderalimentatie | H29: € | I29: =IF('7-12 maanden'!$W$35=0,0,(M29+O29+Q29+S29+U29+W29+'7-12 maanden'!M29+'7-12 maanden'!O29+'7-12 maanden'!Q29+'7-12 maanden'!S29+'7-12 maanden'!U29+'7-12 maanden'!W29)/12) -> 0 | K29: € | L29: =INDIRECT("'Komend jaar'!L:L",ROW()) -> 0 | N29: =INDIRECT("'Komend jaar'!M:M",ROW()) -> 0 | P29: =INDIRECT("'Komend jaar'!N:N",ROW()) -> 0 | R29: =INDIRECT("'Komend jaar'!O:O",ROW()) -> 0 | T29: =INDIRECT("'Komend jaar'!P:P",ROW()) -> 0 | V29: =INDIRECT("'Komend jaar'!Q:Q",ROW()) -> 0
C30: Uzelf | D30: Kostgeld inwonende persoon | H30: € | I30: =IF('7-12 maanden'!$W$35=0,0,(M30+O30+Q30+S30+U30+W30+'7-12 maanden'!M30+'7-12 maanden'!O30+'7-12 maanden'!Q30+'7-12 maanden'!S30+'7-12 maanden'!U30+'7-12 maanden'!W30)/12) -> 0 | K30: € | L30: =INDIRECT("'Komend jaar'!L:L",ROW()) -> 0 | N30: =INDIRECT("'Komend jaar'!M:M",ROW()) -> 0 | P30: =INDIRECT("'Komend jaar'!N:N",ROW()) -> 0 | R30: =INDIRECT("'Komend jaar'!O:O",ROW()) -> 0 | T30: =INDIRECT("'Komend jaar'!P:P",ROW()) -> 0 | V30: =INDIRECT("'Komend jaar'!Q:Q",ROW()) -> 0
C31: Uzelf | D31: Reiskostenvergoeding | H31: € | I31: =IF('7-12 maanden'!$W$35=0,0,(M31+O31+Q31+S31+U31+W31+'7-12 maanden'!M31+'7-12 maanden'!O31+'7-12 maanden'!Q31+'7-12 maanden'!S31+'7-12 maanden'!U31+'7-12 maanden'!W31)/12) -> 0 | K31: € | L31: =INDIRECT("'Komend jaar'!L:L",ROW()) -> 0 | N31: =INDIRECT("'Komend jaar'!M:M",ROW()) -> 0 | P31: =INDIRECT("'Komend jaar'!N:N",ROW()) -> 0 | R31: =INDIRECT("'Komend jaar'!O:O",ROW()) -> 0 | T31: =INDIRECT("'Komend jaar'!P:P",ROW()) -> 0 | V31: =INDIRECT("'Komend jaar'!Q:Q",ROW()) -> 0
... C34: Uzelf | D34: ………………………. | H34: € | I34: =IF('7-12 maanden'!$W$35=0,0,(M34+O34+Q34+S34+U34+W34+'7-12 maanden'!M34+'7-12 maanden'!O34+'7-12 maanden'!Q34+'7-12 maanden'!S34+'7-12 maanden'!U34+'7-12 maanden'!W34)/12) -> 0 | K34: € | L34: =INDIRECT("'Komend jaar'!L:L",ROW()) -> 0 | N34: =INDIRECT("'Komend jaar'!M:M",ROW()) -> 0 | P34: =INDIRECT("'Komend jaar'!N:N",ROW()) -> 0 | R34: =INDIRECT("'Komend jaar'!O:O",ROW()) -> 0 | T34: =INDIRECT("'Komend jaar'!P:P",ROW()) -> 0 | V34: =INDIRECT("'Komend jaar'!Q:Q",ROW()) -> 0
C35: Uzelf | D35: Totaal inkomsten per maand: | H35: € | I35: =SUBTOTAL(109,I19:I34) -> 0 | K35: € | L35: =SUBTOTAL(109,L19:L34) -> 0 | M35: =SUBTOTAL(109,M19:M34) -> 0 | N35: =SUBTOTAL(109,N19:N34) -> 0 | O35: =SUBTOTAL(109,O19:O34) -> 0 | P35: =SUBTOTAL(109,P19:P34) -> 0 | Q35: =SUBTOTAL(109,Q19:Q34) -> 0 | R35: =SUBTOTAL(109,R19:R34) -> 0 | S35: =SUBTOTAL(109,S19:S34) -> 0 | ... W35: =SUBTOTAL(109,W19:W34) -> 0
C36: Uzelf
C37: Uzelf | D37: =D10 -> Werkelijk | F37: =F10 -> #VALUE! | G37: =G10 -> t/m | J37: =J10 -> #VALUE!
C38: Uzelf | D38: B. Vaste lasten | K38: =K17 -> Begroot | M38: =M17 -> Werkelijk | N38: =N17 -> Begroot | O38: =O17 -> Werkelijk | P38: =P17 -> Begroot | Q38: =Q17 -> Werkelijk | R38: =R17 -> Begroot | S38: =S17 -> Werkelijk | T38: =T17 -> Begroot | ... W38: =W17 -> Werkelijk
C39: Uzelf | D39: B1. Wonen (huur, hypotheek en heffingen): | H39: Gemiddeld | K39: =K18 -> #VALUE! | M39: =M18 -> #VALUE! | N39: =N18 -> #VALUE! | O39: =O18 -> #VALUE! | P39: =P18 -> #VALUE! | Q39: =Q18 -> #VALUE! | R39: =R18 -> #VALUE! | S39: =S18 -> #VALUE! | T39: =T18 -> #VALUE! | ... W39: =W18 -> #VALUE! | X39: >
C40: Uzelf | E40: {='Komend jaar'!E40:F49} -> Huur of hypotheek (rente en aflossingen) | H40: € | I40: =IF('7-12 maanden'!$W$35=0,0,(M40+O40+Q40+S40+U40+W40+'7-12 maanden'!M40+'7-12 maanden'!O40+'7-12 maanden'!Q40+'7-12 maanden'!S40+'7-12 maanden'!U40+'7-12 maanden'!W40)/12) -> 0 | K40: € | L40: =INDIRECT("'Komend jaar'!L:L",ROW()) -> 0 | M40: 0 | N40: =INDIRECT("'Komend jaar'!M:M",ROW()) -> 0 | P40: =INDIRECT("'Komend jaar'!N:N",ROW()) -> 0 | R40: =INDIRECT("'Komend jaar'!O:O",ROW()) -> 0 | T40: =INDIRECT("'Komend jaar'!P:P",ROW()) -> 0 | V40: =INDIRECT("'Komend jaar'!Q:Q",ROW()) -> 0
C41: Uzelf | E41: Verzekering bij hypotheek | H41: € | I41: =IF('7-12 maanden'!$W$35=0,0,(M41+O41+Q41+S41+U41+W41+'7-12 maanden'!M41+'7-12 maanden'!O41+'7-12 maanden'!Q41+'7-12 maanden'!S41+'7-12 maanden'!U41+'7-12 maanden'!W41)/12) -> 0 | K41: € | L41: =INDIRECT("'Komend jaar'!L:L",ROW()) -> 0 | N41: =INDIRECT("'Komend jaar'!M:M",ROW()) -> 0 | P41: =INDIRECT("'Komend jaar'!N:N",ROW()) -> 0 | R41: =INDIRECT("'Komend jaar'!O:O",ROW()) -> 0 | T41: =INDIRECT("'Komend jaar'!P:P",ROW()) -> 0 | V41: =INDIRECT("'Komend jaar'!Q:Q",ROW()) -> 0
C42: Uzelf | E42: Servicekosten | H42: € | I42: =IF('7-12 maanden'!$W$35=0,0,(M42+O42+Q42+S42+U42+W42+'7-12 maanden'!M42+'7-12 maanden'!O42+'7-12 maanden'!Q42+'7-12 maanden'!S42+'7-12 maanden'!U42+'7-12 maanden'!W42)/12) -> 0 | K42: € | L42: =INDIRECT("'Komend jaar'!L:L",ROW()) -> 0 | N42: =INDIRECT("'Komend jaar'!M:M",ROW()) -> 0 | P42: =INDIRECT("'Komend jaar'!N:N",ROW()) -> 0 | R42: =INDIRECT("'Komend jaar'!O:O",ROW()) -> 0 | T42: =INDIRECT("'Komend jaar'!P:P",ROW()) -> 0 | V42: =INDIRECT("'Komend jaar'!Q:Q",ROW()) -> 0
...

Sheet 7-12 maanden
C1: Uzelf
C2: Uzelf | F2: Naar boven | G2: =D17 -> A. Inkomsten | L2: =D38 -> B. Vaste lasten | N2: =D124 -> C. Reserverings- uitgaven/ sparen | P2: =D139 -> D. Huishoudelijke uitgaven | R2: =D154 -> Totaal inkomsten en uitgaven | T2: =D166 -> Budgetoverzicht | V2: Grafiek
C3: Uzelf | L3: B1. Wonen
C4: Uzelf | L4: B2. Verzekeringen
C5: Uzelf | L5: B3. Abon./contrib.
C6: U heeft kinderen | L6: B4. Kinderen
C7: Uzelf | L7: B5. Vervoer
C8: Uzelf | L8: B6. Afbetalingen
C9: Uzelf | D9: =Welkom!D1 -> MijnSaldosupporter Light© v.2026-1a E-learnings
C10: Uzelf | D10: Werkelijk | F10: =M18 -> #VALUE! | G10: t/m | J10: =W18 -> #VALUE!
C11: Uzelf | D11: Toelichting:
C12: Uzelf | D12: Stap 2. Het budgetplan van stap 1 is een inschatting, maar hoe gaat het nu werkelijk met je inkomsten en uitgaven? Neem iedere maand, na afloop van de maand, al je bij- en afschrijvingen van je bankrekeningen door en vul voor de desbetreffende maand de werkelijke inkomsten en uitgaven in. Zo kun je controleren of je op koers ligt met je budgetplan of dat je moet bijsturen.
C13: Uzelf
C14: Uzelf
C15: Uzelf
C16: Uzelf
C17: Uzelf | D17: A. Inkomsten | K17: Begroot | M17: Werkelijk | N17: =K17 -> Begroot | O17: =M17 -> Werkelijk | P17: =K17 -> Begroot | Q17: =M17 -> Werkelijk | R17: =K17 -> Begroot | S17: =M17 -> Werkelijk | T17: =K17 -> Begroot | U17: =M17 -> Werkelijk | V17: =K17 -> Begroot | W17: =M17 -> Werkelijk
C18: Uzelf | H18: Gemiddeld | K18: =M18 -> #VALUE! | M18: ='Komend jaar'!R18 -> #VALUE! | N18: =O18 -> #VALUE! | O18: ='Komend jaar'!S18 -> #VALUE! | P18: =Q18 -> #VALUE! | Q18: ='Komend jaar'!T18 -> #VALUE! | R18: =S18 -> #VALUE! | S18: ='Komend jaar'!U18 -> #VALUE! | T18: =U18 -> #VALUE! | U18: ='Komend jaar'!V18 -> #VALUE! | V18: =W18 -> #VALUE! | W18: ='Komend jaar'!W18 -> #VALUE! | X18: <
C19: Uzelf | D19: {='Komend jaar'!D19:F34} -> Netto inkomen | H19: € | I19: ='1-6 maanden'!I19 -> 0 | K19: € | L19: =INDIRECT("'Komend jaar'!R:R",ROW()) -> 0 | M19: 0 | N19: =INDIRECT("'Komend jaar'!S:S",ROW()) -> 0 | P19: =INDIRECT("'Komend jaar'!T:T",ROW()) -> 0 | R19: =INDIRECT("'Komend jaar'!U:U",ROW()) -> 0 | T19: =INDIRECT("'Komend jaar'!V:V",ROW()) -> 0 | V19: =INDIRECT("'Komend jaar'!W:W",ROW()) -> 0
C20: U heeft een partner | D20: Netto inkomen partner | H20: € | I20: ='1-6 maanden'!I20 -> 0 | K20: € | L20: =INDIRECT("'Komend jaar'!R:R",ROW()) -> 0 | N20: =INDIRECT("'Komend jaar'!S:S",ROW()) -> 0 | P20: =INDIRECT("'Komend jaar'!T:T",ROW()) -> 0 | R20: =INDIRECT("'Komend jaar'!U:U",ROW()) -> 0 | T20: =INDIRECT("'Komend jaar'!V:V",ROW()) -> 0 | V20: =INDIRECT("'Komend jaar'!W:W",ROW()) -> 0
C21: Uzelf | D21: Voorlopige teruggave | H21: € | I21: ='1-6 maanden'!I21 -> 0 | K21: € | L21: =INDIRECT("'Komend jaar'!R:R",ROW()) -> 0 | N21: =INDIRECT("'Komend jaar'!S:S",ROW()) -> 0 | P21: =INDIRECT("'Komend jaar'!T:T",ROW()) -> 0 | R21: =INDIRECT("'Komend jaar'!U:U",ROW()) -> 0 | T21: =INDIRECT("'Komend jaar'!V:V",ROW()) -> 0 | V21: =INDIRECT("'Komend jaar'!W:W",ROW()) -> 0
C22: Uzelf | D22: Huurtoeslag | H22: € | I22: ='1-6 maanden'!I22 -> 0 | K22: € | L22: =INDIRECT("'Komend jaar'!R:R",ROW()) -> 0 | N22: =INDIRECT("'Komend jaar'!S:S",ROW()) -> 0 | P22: =INDIRECT("'Komend jaar'!T:T",ROW()) -> 0 | R22: =INDIRECT("'Komend jaar'!U:U",ROW()) -> 0 | T22: =INDIRECT("'Komend jaar'!V:V",ROW()) -> 0 | V22: =INDIRECT("'Komend jaar'!W:W",ROW()) -> 0
C23: Uzelf | D23: Zorgtoeslag | H23: € | I23: ='1-6 maanden'!I23 -> 0 | K23: € | L23: =INDIRECT("'Komend jaar'!R:R",ROW()) -> 0 | N23: =INDIRECT("'Komend jaar'!S:S",ROW()) -> 0 | P23: =INDIRECT("'Komend jaar'!T:T",ROW()) -> 0 | R23: =INDIRECT("'Komend jaar'!U:U",ROW()) -> 0 | T23: =INDIRECT("'Komend jaar'!V:V",ROW()) -> 0 | V23: =INDIRECT("'Komend jaar'!W:W",ROW()) -> 0
C24: U heeft kinderen | D24: Kindgebonden budget | H24: € | I24: ='1-6 maanden'!I24 -> 0 | K24: € | L24: =INDIRECT("'Komend jaar'!R:R",ROW()) -> 0 | N24: =INDIRECT("'Komend jaar'!S:S",ROW()) -> 0 | P24: =INDIRECT("'Komend jaar'!T:T",ROW()) -> 0 | R24: =INDIRECT("'Komend jaar'!U:U",ROW()) -> 0 | T24: =INDIRECT("'Komend jaar'!V:V",ROW()) -> 0 | V24: =INDIRECT("'Komend jaar'!W:W",ROW()) -> 0
C25: U heeft kinderen | D25: Kinderopvangtoeslag | H25: € | I25: ='1-6 maanden'!I25 -> 0 | K25: € | L25: =INDIRECT("'Komend jaar'!R:R",ROW()) -> 0 | N25: =INDIRECT("'Komend jaar'!S:S",ROW()) -> 0 | P25: =INDIRECT("'Komend jaar'!T:T",ROW()) -> 0 | R25: =INDIRECT("'Komend jaar'!U:U",ROW()) -> 0 | T25: =INDIRECT("'Komend jaar'!V:V",ROW()) -> 0 | V25: =INDIRECT("'Komend jaar'!W:W",ROW()) -> 0
C26: Uzelf | D26: Overige toeslagen | H26: € | I26: ='1-6 maanden'!I26 -> 0 | K26: € | L26: =INDIRECT("'Komend jaar'!R:R",ROW()) -> 0 | N26: =INDIRECT("'Komend jaar'!S:S",ROW()) -> 0 | P26: =INDIRECT("'Komend jaar'!T:T",ROW()) -> 0 | R26: =INDIRECT("'Komend jaar'!U:U",ROW()) -> 0 | T26: =INDIRECT("'Komend jaar'!V:V",ROW()) -> 0 | V26: =INDIRECT("'Komend jaar'!W:W",ROW()) -> 0
C27: Uzelf | D27: Tegemoetkoming studiekosten/studiefinanciering | H27: € | I27: ='1-6 maanden'!I27 -> 0 | K27: € | L27: =INDIRECT("'Komend jaar'!R:R",ROW()) -> 0 | N27: =INDIRECT("'Komend jaar'!S:S",ROW()) -> 0 | P27: =INDIRECT("'Komend jaar'!T:T",ROW()) -> 0 | R27: =INDIRECT("'Komend jaar'!U:U",ROW()) -> 0 | T27: =INDIRECT("'Komend jaar'!V:V",ROW()) -> 0 | V27: =INDIRECT("'Komend jaar'!W:W",ROW()) -> 0
C28: Uzelf | D28: Ontvangen partneralimentatie | H28: € | I28: ='1-6 maanden'!I28 -> 0 | K28: € | L28: =INDIRECT("'Komend jaar'!R:R",ROW()) -> 0 | N28: =INDIRECT("'Komend jaar'!S:S",ROW()) -> 0 | P28: =INDIRECT("'Komend jaar'!T:T",ROW()) -> 0 | R28: =INDIRECT("'Komend jaar'!U:U",ROW()) -> 0 | T28: =INDIRECT("'Komend jaar'!V:V",ROW()) -> 0 | V28: =INDIRECT("'Komend jaar'!W:W",ROW()) -> 0
C29: U heeft kinderen | D29: Ontvangen kinderalimentatie | H29: € | I29: ='1-6 maanden'!I29 -> 0 | K29: € | L29: =INDIRECT("'Komend jaar'!R:R",ROW()) -> 0 | N29: =INDIRECT("'Komend jaar'!S:S",ROW()) -> 0 | P29: =INDIRECT("'Komend jaar'!T:T",ROW()) -> 0 | R29: =INDIRECT("'Komend jaar'!U:U",ROW()) -> 0 | T29: =INDIRECT("'Komend jaar'!V:V",ROW()) -> 0 | V29: =INDIRECT("'Komend jaar'!W:W",ROW()) -> 0
C30: Uzelf | D30: Kostgeld inwonende persoon | H30: € | I30: ='1-6 maanden'!I30 -> 0 | K30: € | L30: =INDIRECT("'Komend jaar'!R:R",ROW()) -> 0 | N30: =INDIRECT("'Komend jaar'!S:S",ROW()) -> 0 | P30: =INDIRECT("'Komend jaar'!T:T",ROW()) -> 0 | R30: =INDIRECT("'Komend jaar'!U:U",ROW()) -> 0 | T30: =INDIRECT("'Komend jaar'!V:V",ROW()) -> 0 | V30: =INDIRECT("'Komend jaar'!W:W",ROW()) -> 0
C31: Uzelf | D31: Reiskostenvergoeding | H31: € | I31: ='1-6 maanden'!I31 -> 0 | K31: € | L31: =INDIRECT("'Komend jaar'!R:R",ROW()) -> 0 | N31: =INDIRECT("'Komend jaar'!S:S",ROW()) -> 0 | P31: =INDIRECT("'Komend jaar'!T:T",ROW()) -> 0 | R31: =INDIRECT("'Komend jaar'!U:U",ROW()) -> 0 | T31: =INDIRECT("'Komend jaar'!V:V",ROW()) -> 0 | V31: =INDIRECT("'Komend jaar'!W:W",ROW()) -> 0
... C34: Uzelf | D34: ………………………. | H34: € | I34: ='1-6 maanden'!I34 -> 0 | K34: € | L34: =INDIRECT("'Komend jaar'!R:R",ROW()) -> 0 | N34: =INDIRECT("'Komend jaar'!S:S",ROW()) -> 0 | P34: =INDIRECT("'Komend jaar'!T:T",ROW()) -> 0 | R34: =INDIRECT("'Komend jaar'!U:U",ROW()) -> 0 | T34: =INDIRECT("'Komend jaar'!V:V",ROW()) -> 0 | V34: =INDIRECT("'Komend jaar'!W:W",ROW()) -> 0
C35: Uzelf | D35: Totaal inkomsten per maand: | H35: € | I35: =SUBTOTAL(109,I19:I34) -> 0 | K35: € | L35: =SUBTOTAL(109,L19:L34) -> 0 | M35: =SUBTOTAL(109,M19:M34) -> 0 | N35: =SUBTOTAL(109,N19:N34) -> 0 | O35: =SUBTOTAL(109,O19:O34) -> 0 | P35: =SUBTOTAL(109,P19:P34) -> 0 | Q35: =SUBTOTAL(109,Q19:Q34) -> 0 | R35: =SUBTOTAL(109,R19:R34) -> 0 | S35: =SUBTOTAL(109,S19:S34) -> 0 | ... W35: =SUBTOTAL(109,W19:W34) -> 0
C36: Uzelf
C37: Uzelf | D37: =D10 -> Werkelijk | F37: =F10 -> #VALUE! | G37: =G10 -> t/m | J37: =J10 -> #VALUE!
C38: Uzelf | D38: B. Vaste lasten | K38: =K17 -> Begroot | M38: =M17 -> Werkelijk | N38: =N17 -> Begroot | O38: =O17 -> Werkelijk | P38: =P17 -> Begroot | Q38: =Q17 -> Werkelijk | R38: =R17 -> Begroot | S38: =S17 -> Werkelijk | T38: =T17 -> Begroot | ... W38: =W17 -> Werkelijk
C39: Uzelf | D39: B1. Wonen (huur, hypotheek en heffingen): | H39: Gemiddeld | K39: =K18 -> #VALUE! | M39: =M18 -> #VALUE! | N39: =N18 -> #VALUE! | O39: =O18 -> #VALUE! | P39: =P18 -> #VALUE! | Q39: =Q18 -> #VALUE! | R39: =R18 -> #VALUE! | S39: =S18 -> #VALUE! | T39: =T18 -> #VALUE! | ... W39: =W18 -> #VALUE! | X39: <
C40: Uzelf | E40: {='Komend jaar'!E40:F49} -> Huur of hypotheek (rente en aflossingen) | H40: € | I40: ='1-6 maanden'!I40 -> 0 | K40: € | L40: =INDIRECT("'Komend jaar'!R:R",ROW()) -> 0 | M40: 0 | N40: =INDIRECT("'Komend jaar'!S:S",ROW()) -> 0 | P40: =INDIRECT("'Komend jaar'!T:T",ROW()) -> 0 | R40: =INDIRECT("'Komend jaar'!U:U",ROW()) -> 0 | T40: =INDIRECT("'Komend jaar'!V:V",ROW()) -> 0 | V40: =INDIRECT("'Komend jaar'!W:W",ROW()) -> 0
C41: Uzelf | E41: Verzekering bij hypotheek | H41: € | I41: ='1-6 maanden'!I41 -> 0 | K41: € | L41: =INDIRECT("'Komend jaar'!R:R",ROW()) -> 0 | N41: =INDIRECT("'Komend jaar'!S:S",ROW()) -> 0 | P41: =INDIRECT("'Komend jaar'!T:T",ROW()) -> 0 | R41: =INDIRECT("'Komend jaar'!U:U",ROW()) -> 0 | T41: =INDIRECT("'Komend jaar'!V:V",ROW()) -> 0 | V41: =INDIRECT("'Komend jaar'!W:W",ROW()) -> 0
C42: Uzelf | E42: Servicekosten | H42: € | I42: ='1-6 maanden'!I42 -> 0 | K42: € | L42: =INDIRECT("'Komend jaar'!R:R",ROW()) -> 0 | N42: =INDIRECT("'Komend jaar'!S:S",ROW()) -> 0 | P42: =INDIRECT("'Komend jaar'!T:T",ROW()) -> 0 | R42: =INDIRECT("'Komend jaar'!U:U",ROW()) -> 0 | T42: =INDIRECT("'Komend jaar'!V:V",ROW()) -> 0 | V42: =INDIRECT("'Komend jaar'!W:W",ROW()) -> 0
...

Sheet Reserveringen
C1: Uzelf
C2: Uzelf | D2: Terug naar Inhoudsopgave | F2: Naar boven
C3: Uzelf
C4: Uzelf
C5: Uzelf
C6: U heeft kinderen
C7: Uzelf
C8: Uzelf
C9: Uzelf | D9: ='Inkomsten en uitgaven'!D9 -> MijnSaldosupporter Light© v.2026-1a E-learnings
C10: Uzelf | D10: Overzicht reserveringen
D11: Toelichting:
D12: =#REF! -> #REF!
C51: Uzelf
C52: Uzelf | D52: =D10 -> Overzicht reserveringen
C91: Uzelf
C92: Uzelf | D92: =D10 -> Overzicht reserveringen

Sheet Taart diagrammen
D2: Terug naar Inhoudsopgave | F2: Naar boven | G2: Jaaroverzicht
D9: ='Inkomsten en uitgaven'!D9 -> MijnSaldosupporter Light© v.2026-1a E-learnings
D10: Taart diagrammen
D11: Toelichting:
D12: =#REF! -> #REF!
D14: Uitgaven | F14: ='Inkomsten en uitgaven'!K18 -> #REF! | G14: t/m | I14: ='Inkomsten en uitgaven'!W18 -> #REF! | N14: Budgetten | P14: ='Komend jaar'!K18 -> #VALUE! | Q14: ='Komend jaar'!M18 -> #VALUE! | R14: ='Komend jaar'!N18 -> #VALUE! | S14: Werkelijk
E17: ='Inkomsten en uitgaven'!$D$171 -> Wonen | F17: =SUM('Inkomsten en uitgaven'!L171:W171) -> 0 | Q17: =SUM('Komend jaar'!L171:N171) -> 0 | V17: =SUM('1-6 maanden'!M171,'1-6 maanden'!O171,'1-6 maanden'!Q171) -> 0
E18: ='Inkomsten en uitgaven'!$D$172 -> Verzekeringen | F18: =SUM('Inkomsten en uitgaven'!L172:W172) -> 0 | Q18: =SUM('Komend jaar'!L172:N172) -> 0 | V18: =SUM('1-6 maanden'!M172,'1-6 maanden'!O172,'1-6 maanden'!Q172) -> 0
E19: ='Inkomsten en uitgaven'!$D$173 -> Abonnementen en contributies | F19: =SUM('Inkomsten en uitgaven'!L173:W173) -> 0 | Q19: =SUM('Komend jaar'!L173:N173) -> 0 | V19: =SUM('1-6 maanden'!M173,'1-6 maanden'!O173,'1-6 maanden'!Q173) -> 0
E20: ='Inkomsten en uitgaven'!$D$174 -> Kinderen | F20: =SUM('Inkomsten en uitgaven'!L174:W174) -> 0 | Q20: =SUM('Komend jaar'!L174:N174) -> 0 | V20: =SUM('1-6 maanden'!M174,'1-6 maanden'!O174,'1-6 maanden'!Q174) -> 0
E21: ='Inkomsten en uitgaven'!$D$175 -> Vervoer | F21: =SUM('Inkomsten en uitgaven'!L175:W175) -> 0 | Q21: =SUM('Komend jaar'!L175:N175) -> 0 | V21: =SUM('1-6 maanden'!M175,'1-6 maanden'!O175,'1-6 maanden'!Q175) -> 0
E22: ='Inkomsten en uitgaven'!$D$176 -> Afbetalingen | F22: =SUM('Inkomsten en uitgaven'!L176:W176) -> 0 | Q22: =SUM('Komend jaar'!L176:N176) -> 0 | V22: =SUM('1-6 maanden'!M176,'1-6 maanden'!O176,'1-6 maanden'!Q176) -> 0
E23: ='Inkomsten en uitgaven'!$D$177 -> Reserveren/sparen voor | F23: =SUM('Inkomsten en uitgaven'!L177:W177) -> 0 | Q23: =SUM('Komend jaar'!L177:N177) -> 0 | V23: =SUM('1-6 maanden'!M177,'1-6 maanden'!O177,'1-6 maanden'!Q177) -> 0
E24: ='Inkomsten en uitgaven'!$D$178 -> Huishoudelijke uitgaven | F24: =SUM('Inkomsten en uitgaven'!L178:W178) -> 0 | Q24: =SUM('Komend jaar'!L178:N178) -> 0 | V24: =SUM('1-6 maanden'!M178,'1-6 maanden'!O178,'1-6 maanden'!Q178) -> 0
D33: =D14 -> Uitgaven | F33: =F14 -> #REF! | G33: =G14 -> t/m | I33: =I14 -> #REF! | N33: =N14 -> Budgetten | P33: ='Komend jaar'!O18 -> #VALUE! | Q33: ='Komend jaar'!P18 -> #VALUE! | R33: ='Komend jaar'!Q18 -> #VALUE! | S33: =S14 -> Werkelijk
Q36: =SUM('Komend jaar'!O171:Q171) -> 0 | V36: =SUM(#REF!,#REF!,#REF!) -> #REF!
Q37: =SUM('Komend jaar'!O172:Q172) -> 0 | V37: =SUM(#REF!,#REF!,#REF!) -> #REF!
Q38: =SUM('Komend jaar'!O173:Q173) -> 0 | V38: =SUM(#REF!,#REF!,#REF!) -> #REF!
Q39: =SUM('Komend jaar'!O174:Q174) -> 0 | V39: =SUM(#REF!,#REF!,#REF!) -> #REF!
Q40: =SUM('Komend jaar'!O175:Q175) -> 0 | V40: =SUM(#REF!,#REF!,#REF!) -> #REF!
Q41: =SUM('Komend jaar'!O176:Q176) -> 0 | V41: =SUM(#REF!,#REF!,#REF!) -> #REF!
Q42: =SUM('Komend jaar'!O177:Q177) -> 0 | V42: =SUM(#REF!,#REF!,#REF!) -> #REF!
Q43: =SUM('Komend jaar'!O178:Q178) -> 0 | V43: =SUM(#REF!,#REF!,#REF!) -> #REF!
C52: Uzelf
C53: Uzelf | D53: =D10 -> Taart diagrammen
D54: =D14 -> Uitgaven | F54: =F14 -> #REF! | G54: =G14 -> t/m | I54: =I14 -> #REF! | N54: =N14 -> Budgetten | P54: ='Komend jaar'!R18 -> #VALUE! | Q54: ='Komend jaar'!S18 -> #VALUE! | R54: ='Komend jaar'!T18 -> #VALUE! | S54: =S14 -> Werkelijk
Q57: =SUM('Komend jaar'!R171:T171) -> 0 | V57: =SUM(#REF!,#REF!,#REF!) -> #REF!
Q58: =SUM('Komend jaar'!R172:T172) -> 0 | V58: =SUM(#REF!,#REF!,#REF!) -> #REF!
Q59: =SUM('Komend jaar'!R173:T173) -> 0 | V59: =SUM(#REF!,#REF!,#REF!) -> #REF!
Q60: =SUM('Komend jaar'!R174:T174) -> 0 | V60: =SUM(#REF!,#REF!,#REF!) -> #REF!
Q61: =SUM('Komend jaar'!R175:T175) -> 0 | V61: =SUM(#REF!,#REF!,#REF!) -> #REF!
Q62: =SUM('Komend jaar'!R176:T176) -> 0 | V62: =SUM(#REF!,#REF!,#REF!) -> #REF!
Q63: =SUM('Komend jaar'!R177:T177) -> 0 | V63: =SUM(#REF!,#REF!,#REF!) -> #REF!
Q64: =SUM('Komend jaar'!R178:T178) -> 0 | V64: =SUM(#REF!,#REF!,#REF!) -> #REF!
D73: =D54 -> Uitgaven | F73: =F14 -> #REF! | G73: =G14 -> t/m | I73: =I14 -> #REF! | N73: =N14 -> Budgetten | P73: ='Komend jaar'!U18 -> #VALUE! | Q73: ='Komend jaar'!V18 -> #VALUE! | R73: ='Komend jaar'!W18 -> #VALUE! | S73: =S14 -> Werkelijk
Q76: =SUM('Komend jaar'!U171:W171) -> 0 | V76: =SUM(#REF!,#REF!,#REF!) -> #REF!
Q77: =SUM('Komend jaar'!U172:W172) -> 0 | V77: =SUM(#REF!,#REF!,#REF!) -> #REF!
Q78: =SUM('Komend jaar'!U173:W173) -> 0 | V78: =SUM(#REF!,#REF!,#REF!) -> #REF!
Q79: =SUM('Komend jaar'!U174:W174) -> 0 | V79: =SUM(#REF!,#REF!,#REF!) -> #REF!
Q80: =SUM('Komend jaar'!U175:W175) -> 0 | V80: =SUM(#REF!,#REF!,#REF!) -> #REF!
...
